BEGIN:VCALENDAR
VERSION:2.0
PRODID:-//CityLightsArtGallery - ECPv6.15.12.2//NONSGML v1.0//EN
CALSCALE:GREGORIAN
METHOD:PUBLISH
X-WR-CALNAME:CityLightsArtGallery
X-ORIGINAL-URL:https://citylightsartgallery.org
X-WR-CALDESC:Events for CityLightsArtGallery
REFRESH-INTERVAL;VALUE=DURATION:PT1H
X-Robots-Tag:noindex
X-PUBLISHED-TTL:PT1H
BEGIN:VTIMEZONE
TZID:America/Los_Angeles
BEGIN:DAYLIGHT
TZOFFSETFROM:-0800
TZOFFSETTO:-0700
TZNAME:PDT
DTSTART:20220313T100000
END:DAYLIGHT
BEGIN:STANDARD
TZOFFSETFROM:-0700
TZOFFSETTO:-0800
TZNAME:PST
DTSTART:20221106T090000
END:STANDARD
BEGIN:DAYLIGHT
TZOFFSETFROM:-0800
TZOFFSETTO:-0700
TZNAME:PDT
DTSTART:20230312T100000
END:DAYLIGHT
BEGIN:STANDARD
TZOFFSETFROM:-0700
TZOFFSETTO:-0800
TZNAME:PST
DTSTART:20231105T090000
END:STANDARD
BEGIN:DAYLIGHT
TZOFFSETFROM:-0800
TZOFFSETTO:-0700
TZNAME:PDT
DTSTART:20240310T100000
END:DAYLIGHT
BEGIN:STANDARD
TZOFFSETFROM:-0700
TZOFFSETTO:-0800
TZNAME:PST
DTSTART:20241103T090000
END:STANDARD
BEGIN:DAYLIGHT
TZOFFSETFROM:-0800
TZOFFSETTO:-0700
TZNAME:PDT
DTSTART:20250309T100000
END:DAYLIGHT
BEGIN:STANDARD
TZOFFSETFROM:-0700
TZOFFSETTO:-0800
TZNAME:PST
DTSTART:20251102T090000
END:STANDARD
BEGIN:DAYLIGHT
TZOFFSETFROM:-0800
TZOFFSETTO:-0700
TZNAME:PDT
DTSTART:20260308T100000
END:DAYLIGHT
BEGIN:STANDARD
TZOFFSETFROM:-0700
TZOFFSETTO:-0800
TZNAME:PST
DTSTART:20261101T090000
END:STANDARD
END:VTIMEZONE
BEGIN:VEVENT
DTSTART;TZID=America/Los_Angeles:20250207T180000
DTEND;TZID=America/Los_Angeles:20250207T200000
DTSTAMP:20260425T071109
CREATED:20250129T043037Z
LAST-MODIFIED:20250129T043037Z
UID:6931-1738951200-1738958400@citylightsartgallery.org
SUMMARY:Judi Moreo Reception and Book Signing
DESCRIPTION:Join Gallery Member Judi Moreo for a reception and book signing at City Lights Art Gallery. 3 Army Street\, Henderson – Friday\, February 7th from 6 to 8 pm!
URL:https://citylightsartgallery.org/event/judi-moreo-reception-and-book-signing
LOCATION:City Lights Art Gallery\, 3 East Army Street\, Henderson\, NV\, 89015\, United States
CATEGORIES:Event,Featured Artist,Fun,Gallery,Newsletter
ATTACH;FMTTYPE=image/jpeg:https://citylightsartgallery.org/wp-content/uploads/2025/01/Judi-Moreo-Book-Signing-and-Reception-020725.jpg
ORGANIZER;CN="City Lights Art Gallery":MAILTO:CLAG.Gallery@gmail.com
END:VEVENT
BEGIN:VEVENT
DTSTART;TZID=America/Los_Angeles:20250125T100000
DTEND;TZID=America/Los_Angeles:20250125T130000
DTSTAMP:20260425T071109
CREATED:20230325T001542Z
LAST-MODIFIED:20230325T001542Z
UID:6562-1737799200-1737810000@citylightsartgallery.org
SUMMARY:Watercolor Class with Jan Schaeffer
DESCRIPTION:Watercolor Classes held on Saturday’s \nInstructor: Jan Schaeffer at (702) 498-3055 (Call ahead to confirm availability) \nCost $25.00 per class
URL:https://citylightsartgallery.org/event/2764-2023-12-02/2025-01-25
LOCATION:City Lights Art Gallery\, 3 East Army Street\, Henderson\, NV\, 89015\, United States
CATEGORIES:Class,Event,Fun,Gallery
ATTACH;FMTTYPE=image/jpeg:https://citylightsartgallery.org/wp-content/uploads/2022/08/Vert-Class-Pic_2.jpg
ORGANIZER;CN="Jan Schaeffer":MAILTO:jansigns3@gmail.com
END:VEVENT
BEGIN:VEVENT
DTSTART;TZID=America/Los_Angeles:20250122T133000
DTEND;TZID=America/Los_Angeles:20250122T153000
DTSTAMP:20260425T071109
CREATED:20241203T061519Z
LAST-MODIFIED:20241203T063109Z
UID:6279-1737552600-1737559800@citylightsartgallery.org
SUMMARY:Artists's Outing
DESCRIPTION:Please join CLAG members and friends\nfor a trip to the Arte Museum Las Vegas on\nWednesday\, Jan 22nd at 1:30 pm. Check\nout their website at: https://\nlasvegas.artemuseum.com/\nTickets are $45 for NV residents and\ninclude the Tea Experience\, which is an\nimmersive experience that includes a\nbeverage. There’s no food available so eat\nfirst! You can buy your own tickets on the\nwebsite\, however\, please rsvp by text to\nKarla at 702-339-5491 for car pool options.\nPlan on spending about 90min-2hrs at the\nmuseum
URL:https://citylightsartgallery.org/event/artistss-outing
LOCATION:City Lights Art Gallery\, 3 East Army Street\, Henderson\, NV\, 89015\, United States
CATEGORIES:Event,Fun,Gallery
ORGANIZER;CN="City Lights Art Gallery":MAILTO:CLAG.Gallery@gmail.com
END:VEVENT
BEGIN:VEVENT
DTSTART;TZID=America/Los_Angeles:20250116T183000
DTEND;TZID=America/Los_Angeles:20250116T193000
DTSTAMP:20260425T071109
CREATED:20250104T234748Z
LAST-MODIFIED:20250114T180938Z
UID:6615-1737052200-1737055800@citylightsartgallery.org
SUMMARY:Member Meeting & "Procreate Presentation" by Lori McCoy
DESCRIPTION:Join us at the gallery for the monthly member meeting and a presentation by Lori McCoy called “Procreate”. \nOpen to the public. \n6:30 pm to 7:30 pm. \n \n 
URL:https://citylightsartgallery.org/event/member-meeting-procreate-presentation-by-lori-mccoy
LOCATION:City Lights Art Gallery\, 3 East Army Street\, Henderson\, NV\, 89015\, United States
CATEGORIES:Event,Fun,Gallery
ORGANIZER;CN="City Lights Art Gallery":MAILTO:CLAG.Gallery@gmail.com
END:VEVENT
BEGIN:VEVENT
DTSTART;TZID=America/Los_Angeles:20250111T150000
DTEND;TZID=America/Los_Angeles:20250111T170000
DTSTAMP:20260425T071109
CREATED:20250104T234310Z
LAST-MODIFIED:20250111T015445Z
UID:6500-1736607600-1736614800@citylightsartgallery.org
SUMMARY:Reception for "Our Desert"
DESCRIPTION:Join us at the gallery as we celebrate “Our Desert”! \n3 to 5 pm today!
URL:https://citylightsartgallery.org/event/reception-for-our-desert
LOCATION:City Lights Art Gallery\, 3 East Army Street\, Henderson\, NV\, 89015\, United States
CATEGORIES:Event,Fun,Gallery,Newsletter,Website Update
ATTACH;FMTTYPE=image/jpeg:https://citylightsartgallery.org/wp-content/uploads/2025/01/Member-Reception-Jan-2025-scaled.jpg
ORGANIZER;CN="City Lights Art Gallery":MAILTO:CLAG.Gallery@gmail.com
END:VEVENT
BEGIN:VEVENT
DTSTART;TZID=America/Los_Angeles:20241214T150000
DTEND;TZID=America/Los_Angeles:20241214T180000
DTSTAMP:20260425T071109
CREATED:20241206T063741Z
LAST-MODIFIED:20241206T063741Z
UID:6291-1734188400-1734199200@citylightsartgallery.org
SUMMARY:Holiday Party!!
DESCRIPTION:
URL:https://citylightsartgallery.org/event/holiday-party
LOCATION:City Lights Art Gallery\, 3 East Army Street\, Henderson\, NV\, 89015\, United States
CATEGORIES:Event,Fun,Gallery,Newsletter
ATTACH;FMTTYPE=image/jpeg:https://citylightsartgallery.org/wp-content/uploads/2024/12/Holiday-party-scaled.jpg
ORGANIZER;CN="City Lights Art Gallery":MAILTO:CLAG.Gallery@gmail.com
END:VEVENT
BEGIN:VEVENT
DTSTART;TZID=America/Los_Angeles:20241122T160000
DTEND;TZID=America/Los_Angeles:20241122T200000
DTSTAMP:20260425T071109
CREATED:20240918T040046Z
LAST-MODIFIED:20240918T040046Z
UID:6060-1732291200-1732305600@citylightsartgallery.org
SUMMARY:Farmers Market
DESCRIPTION:
URL:https://citylightsartgallery.org/event/farmers-market-2/2024-11-22
LOCATION:City Lights Art Gallery\, 3 East Army Street\, Henderson\, NV\, 89015\, United States
CATEGORIES:Event,Fun,Gallery
ATTACH;FMTTYPE=image/jpeg:https://citylightsartgallery.org/wp-content/uploads/2024/02/farmers-market-henderson-square-12-ARt-jpg-12.jpg
ORGANIZER;CN="City Lights Art Gallery":MAILTO:CLAG.Gallery@gmail.com
END:VEVENT
BEGIN:VEVENT
DTSTART;TZID=America/Los_Angeles:20241116T170000
DTEND;TZID=America/Los_Angeles:20241116T190000
DTSTAMP:20260425T071109
CREATED:20241112T201540Z
LAST-MODIFIED:20241112T201610Z
UID:6217-1731776400-1731783600@citylightsartgallery.org
SUMMARY:Sujata Kishore Featured Artist Reception
DESCRIPTION:Happening Saturday\, Nov 16\, from 5 to 7 pm! Come meet Sujata and experience “Nature’s Charm”!!! Open to the public!!! Bring a friend! We look forward to seeing you there!! \n \n 
URL:https://citylightsartgallery.org/event/sujata-kishore-featured-artist-reception
LOCATION:City Lights Art Gallery\, 3 East Army Street\, Henderson\, NV\, 89015\, United States
CATEGORIES:Event,Featured Artist,Fun,Gallery
ATTACH;FMTTYPE=image/jpeg:https://citylightsartgallery.org/wp-content/uploads/2024/11/SK-Flyer-Final-Nov-Featured-Artist-Nov-2024-jpg-5-scaled.jpg
ORGANIZER;CN="City Lights Art Gallery":MAILTO:CLAG.Gallery@gmail.com
END:VEVENT
BEGIN:VEVENT
DTSTART;TZID=America/Los_Angeles:20241115T100000
DTEND;TZID=America/Los_Angeles:20241115T130000
DTSTAMP:20260425T071109
CREATED:20241029T210821Z
LAST-MODIFIED:20241203T060751Z
UID:6133-1731664800-1731675600@citylightsartgallery.org
SUMMARY:Still Life Drawing
DESCRIPTION:
URL:https://citylightsartgallery.org/event/still-life-drawing
LOCATION:City Lights Art Gallery\, 3 East Army Street\, Henderson\, NV\, 89015\, United States
CATEGORIES:Class,Event,Fun,Gallery
ATTACH;FMTTYPE=image/jpeg:https://citylightsartgallery.org/wp-content/uploads/2024/10/Still-Life-Flyer-103024-jpg-scaled.jpg
ORGANIZER;CN="City Lights Art Gallery":MAILTO:CLAG.Gallery@gmail.com
END:VEVENT
BEGIN:VEVENT
DTSTART;TZID=America/Los_Angeles:20241022T100000
DTEND;TZID=America/Los_Angeles:20241022T140000
DTSTAMP:20260425T071109
CREATED:20240908T030627Z
LAST-MODIFIED:20240908T030627Z
UID:5948-1729591200-1729605600@citylightsartgallery.org
SUMMARY:Learn to Paint with Sujata!!!
DESCRIPTION:
URL:https://citylightsartgallery.org/event/learn-to-paint-with-sujata
LOCATION:City Lights Art Gallery\, 3 East Army Street\, Henderson\, NV\, 89015\, United States
CATEGORIES:Class,Event,Fun,Gallery,Newsletter,Website Update
ATTACH;FMTTYPE=image/png:https://citylightsartgallery.org/wp-content/uploads/2024/09/Sujata-updated-flyer-090524.png
ORGANIZER;CN="City Lights Art Gallery":MAILTO:CLAG.Gallery@gmail.com
END:VEVENT
BEGIN:VEVENT
DTSTART;TZID=America/Los_Angeles:20241017T183000
DTEND;TZID=America/Los_Angeles:20241017T200000
DTSTAMP:20260425T071109
CREATED:20241015T005052Z
LAST-MODIFIED:20241015T005052Z
UID:6082-1729189800-1729195200@citylightsartgallery.org
SUMMARY:Member Meeting with Lola Meneses
DESCRIPTION:Come join us this Thursday at City Lights Art Gallery as gallery member Lola Meneses does an Introduction to Scratchboard!!!This Thursday\, Oct 17th starting at 6:30 pm!!!Open to the public!!! Bring a friend!!!Light refreshments too!!!We look forward to seeing you there!!!
URL:https://citylightsartgallery.org/event/member-meeting-with-lola-meneses
LOCATION:City Lights Art Gallery\, 3 East Army Street\, Henderson\, NV\, 89015\, United States
CATEGORIES:Event,Fun,Gallery
ATTACH;FMTTYPE=image/jpeg:https://citylightsartgallery.org/wp-content/uploads/2024/10/Member-Meeting-Oct-2024-jpg5-scaled.jpg
ORGANIZER;CN="City Lights Art Gallery":MAILTO:CLAG.Gallery@gmail.com
END:VEVENT
BEGIN:VEVENT
DTSTART;TZID=America/Los_Angeles:20241012T150000
DTEND;TZID=America/Los_Angeles:20241012T170000
DTSTAMP:20260425T071109
CREATED:20240908T025648Z
LAST-MODIFIED:20240908T025714Z
UID:5938-1728745200-1728752400@citylightsartgallery.org
SUMMARY:Reception for October's Featured Exhibit "Animals Unleashed"
DESCRIPTION:Come join us as we celebrate with Pat Gombarcik and Karla Cloninger and their amazing art “Animals Unleashed”!!!\nReception Saturday October 12 from 3 to 5 pm!
URL:https://citylightsartgallery.org/event/reception-for-octobers-featured-exhibit-animals-unleashed
LOCATION:City Lights Art Gallery\, 3 East Army Street\, Henderson\, NV\, 89015\, United States
CATEGORIES:Event,Featured Artist,Fun,Gallery,Newsletter,Website Update
ATTACH;FMTTYPE=image/jpeg:https://citylightsartgallery.org/wp-content/uploads/2024/09/4x6-postcard.jpg
ORGANIZER;CN="City Lights Art Gallery":MAILTO:CLAG.Gallery@gmail.com
END:VEVENT
BEGIN:VEVENT
DTSTART;TZID=America/Los_Angeles:20241004T170000
DTEND;TZID=America/Los_Angeles:20241004T220000
DTSTAMP:20260425T071109
CREATED:20240918T204714Z
LAST-MODIFIED:20240918T214010Z
UID:6030-1728061200-1728079200@citylightsartgallery.org
SUMMARY:Hot Rod Days Oct 4th & 5th
DESCRIPTION:
URL:https://citylightsartgallery.org/event/hot-rod-days
LOCATION:City Lights Art Gallery\, 3 East Army Street\, Henderson\, NV\, 89015\, United States
CATEGORIES:Event,Fun,Gallery,Newsletter,Website Update
ATTACH;FMTTYPE=image/jpeg:https://citylightsartgallery.org/wp-content/uploads/2024/09/Hot-Rod-Days-Lori-Flyer-Final-091824-CLAG-scaled.jpeg
ORGANIZER;CN="City Lights Art Gallery":MAILTO:CLAG.Gallery@gmail.com
END:VEVENT
BEGIN:VEVENT
DTSTART;TZID=America/Los_Angeles:20240919T183000
DTEND;TZID=America/Los_Angeles:20240919T200000
DTSTAMP:20260425T071109
CREATED:20240908T031140Z
LAST-MODIFIED:20240908T031140Z
UID:5955-1726770600-1726776000@citylightsartgallery.org
SUMMARY:Member Meeting featuring Linda Davis!
DESCRIPTION:
URL:https://citylightsartgallery.org/event/member-meeting-featuring-linda-davis
LOCATION:City Lights Art Gallery\, 3 East Army Street\, Henderson\, NV\, 89015\, United States
CATEGORIES:Fun,Gallery,Newsletter,Website Update
ATTACH;FMTTYPE=image/jpeg:https://citylightsartgallery.org/wp-content/uploads/2024/09/Member-Meeting-091924.jpg
ORGANIZER;CN="City Lights Art Gallery":MAILTO:CLAG.Gallery@gmail.com
END:VEVENT
BEGIN:VEVENT
DTSTART;TZID=America/Los_Angeles:20240831T120000
DTEND;TZID=America/Los_Angeles:20240831T160000
DTSTAMP:20260425T071109
CREATED:20240625T031241Z
LAST-MODIFIED:20240625T031241Z
UID:5910-1725105600-1725120000@citylightsartgallery.org
SUMMARY:Fall Juried Show 2024 Art Intake
DESCRIPTION:For forms https://citylightsartgallery.org/art-intake-fall2024
URL:https://citylightsartgallery.org/event/fall-juried-show-2024/2024-08-31
LOCATION:City Lights Art Gallery\, 3 East Army Street\, Henderson\, NV\, 89015\, United States
CATEGORIES:Art Intake/Pickup,Event,Fun,Gallery,Juried Shows
ATTACH;FMTTYPE=image/png:https://citylightsartgallery.org/wp-content/uploads/2024/08/Fall-2024-Flyer-080324.png
ORGANIZER;CN="City Lights Art Gallery":MAILTO:CLAG.Gallery@gmail.com
END:VEVENT
BEGIN:VEVENT
DTSTART;TZID=America/Los_Angeles:20240828T090000
DTEND;TZID=America/Los_Angeles:20240828T160000
DTSTAMP:20260425T071109
CREATED:20240719T195442Z
LAST-MODIFIED:20240719T195442Z
UID:5830-1724835600-1724860800@citylightsartgallery.org
SUMMARY:Acrylic Painting Workshop with Judi Moreo
DESCRIPTION:To download the pdf version click here —>>> Judi Moreo Workshop Aug 2024 pdf
URL:https://citylightsartgallery.org/event/acrylic-painting-workshop-with-judi-moreo/2024-08-28
LOCATION:City Lights Art Gallery\, 3 East Army Street\, Henderson\, NV\, 89015\, United States
CATEGORIES:Class,Event,Fun,Gallery
ATTACH;FMTTYPE=image/jpeg:https://citylightsartgallery.org/wp-content/uploads/2024/07/Judi-Moreo-Workshop-Aug-2024-jpg.jpg
ORGANIZER;CN="City Lights Art Gallery":MAILTO:CLAG.Gallery@gmail.com
END:VEVENT
BEGIN:VEVENT
DTSTART;TZID=America/Los_Angeles:20240820T100000
DTEND;TZID=America/Los_Angeles:20240820T130000
DTSTAMP:20260425T071109
CREATED:20240718T214132Z
LAST-MODIFIED:20240718T214132Z
UID:5807-1724148000-1724158800@citylightsartgallery.org
SUMMARY:Drawing Fundamentals\, Tips\, & Techniques with Pat Gombarcik
DESCRIPTION:Click for the pdf —>>>  Pat Gombarcik Workshop pdf
URL:https://citylightsartgallery.org/event/5797/2024-08-20
LOCATION:City Lights Art Gallery\, 3 East Army Street\, Henderson\, NV\, 89015\, United States
CATEGORIES:Class,Fun,Gallery
ATTACH;FMTTYPE=image/jpeg:https://citylightsartgallery.org/wp-content/uploads/2024/07/Pat-Gombarcik-Workshop.jpeg
ORGANIZER;CN="City Lights Art Gallery":MAILTO:CLAG.Gallery@gmail.com
END:VEVENT
BEGIN:VEVENT
DTSTART;TZID=America/Los_Angeles:20240817T100000
DTEND;TZID=America/Los_Angeles:20240817T160000
DTSTAMP:20260425T071109
CREATED:20240801T040044Z
LAST-MODIFIED:20240801T185801Z
UID:5862-1723888800-1723910400@citylightsartgallery.org
SUMMARY:Art Sale at The Pass Casino
DESCRIPTION:See what local artists can create! Artists from Henderson’s City Lights Art Gallery are hosting a local art sale Saturday\, August 17\, in The Venue at the The Pass Casino located at 140 Water St.\, Henderson\, NV 89015. It may be hot\, but there will be a lot of cool art in a cool venue! Step out of the heat and enjoy some time looking for that special piece to accent your home. You’ll find acrylic\, oil\, and water paintings\, ink drawings\, sketches\, photography\, mixed media\, pottery\, jewelry\, and more! \nFeatured artists include Paul Smyth\, Linda Brunswold\, Chris Mazglad\, Merret Stufflebeen\, Kern Greewald\, Clevelle Scherer\, Carolyn Stillwell\, Keith McDonald\, Barbara Weinacht\, Lani McCusker\, Thomas Haggerty\, Lin Berger and more. \nPaul Smyth\, a member of the City Lights Board says\, “guests can expect to find some great art at a good value from local artists.” \nThe show starts at 10:00 a.m.\, Saturday\, August 17\, 2024\, and runs until 4:00 p.m.  Entry is free and you’ll have an opportunity to meet the artists. Afterwards you can grab some lunch or dinner at the many fine restaurants along Henderson’s Water Street District. And don’t be shy to stop by the City Lights Art Gallery to see even more local works of art. \nCity Lights Art Gallery is a non-profit art gallery with the goals to financially assist art education among children and seniors\, generate funding for art related public charity projects\, teach students how to professionally present their artwork\, and provide classes for students of all ages. City Lights Art Gallery is located at 3 Army Street\, just across the street from The Pass Casino. \nFor more information check out www.CityLightsArtGallery.org\, \n## \nContact: \nKeith McDonald \nMcdonaldkeith9040@gmail.com \n702-934-9042
URL:https://citylightsartgallery.org/event/art-sale-at-the-pass-casino
LOCATION:The Pass Casino\, 140 Water Street\, henderson
CATEGORIES:Event,Fun,Gallery
ATTACH;FMTTYPE=image/png:https://citylightsartgallery.org/wp-content/uploads/2024/07/IG-Art-Sale-blue.png
ORGANIZER;CN="City Lights Art Gallery":MAILTO:CLAG.Gallery@gmail.com
END:VEVENT
BEGIN:VEVENT
DTSTART;TZID=America/Los_Angeles:20240621T130000
DTEND;TZID=America/Los_Angeles:20240621T150000
DTSTAMP:20260425T071109
CREATED:20240606T032115Z
LAST-MODIFIED:20240606T032115Z
UID:5448-1718974800-1718982000@citylightsartgallery.org
SUMMARY:Paint Your Own Pottery (Ages 5 to 12)
DESCRIPTION:
URL:https://citylightsartgallery.org/event/paint-your-own-pottery-ages-5-to-12
LOCATION:City Lights Art Gallery\, 3 East Army Street\, Henderson\, NV\, 89015\, United States
CATEGORIES:Class,Event,Featured Artist,Fun
ATTACH;FMTTYPE=image/png:https://citylightsartgallery.org/wp-content/uploads/2024/06/Paint-your-own-Pottery.png
ORGANIZER;CN="City Lights Art Gallery":MAILTO:CLAG.Gallery@gmail.com
END:VEVENT
BEGIN:VEVENT
DTSTART;TZID=America/Los_Angeles:20240522T100000
DTEND;TZID=America/Los_Angeles:20240522T130000
DTSTAMP:20260425T071109
CREATED:20240417T204549Z
LAST-MODIFIED:20240417T204627Z
UID:5201-1716372000-1716382800@citylightsartgallery.org
SUMMARY:A Painting Class for Absolute Beginners with Terri Thompson
DESCRIPTION:If interested email Terri directly at tthompson1952@gmail.com
URL:https://citylightsartgallery.org/event/a-painting-class-for-absolute-beginners-with-terri-thompson
LOCATION:City Lights Art Gallery\, 3 East Army Street\, Henderson\, NV\, 89015\, United States
CATEGORIES:Class,Event,Fun
ATTACH;FMTTYPE=image/jpeg:https://citylightsartgallery.org/wp-content/uploads/2024/04/Terri-Thompson-Intro-Paint-Workshop-042224-IMG_1916-scaled.jpg
ORGANIZER;CN="City Lights Art Gallery":MAILTO:CLAG.Gallery@gmail.com
END:VEVENT
BEGIN:VEVENT
DTSTART;TZID=America/Los_Angeles:20240516T180000
DTEND;TZID=America/Los_Angeles:20240516T200000
DTSTAMP:20260425T071109
CREATED:20240214T030040Z
LAST-MODIFIED:20240214T030313Z
UID:4842-1715882400-1715889600@citylightsartgallery.org
SUMMARY:Member Meeting - CRITIQUES
DESCRIPTION:Member Meeting and CRITIQUES
URL:https://citylightsartgallery.org/event/member-meeting-critiques
LOCATION:City Lights Art Gallery\, 3 East Army Street\, Henderson\, NV\, 89015\, United States
CATEGORIES:Event,Fun
ORGANIZER;CN="City Lights Art Gallery":MAILTO:CLAG.Gallery@gmail.com
END:VEVENT
BEGIN:VEVENT
DTSTART;TZID=America/Los_Angeles:20240515T170000
DTEND;TZID=America/Los_Angeles:20240515T190000
DTSTAMP:20260425T071109
CREATED:20240417T202244Z
LAST-MODIFIED:20240506T232647Z
UID:5198-1715792400-1715799600@citylightsartgallery.org
SUMMARY:Coral Academy of Science Student Art Reception
DESCRIPTION:
URL:https://citylightsartgallery.org/event/coral-academy-of-science-student-art-reception
LOCATION:City Lights Art Gallery\, 3 East Army Street\, Henderson\, NV\, 89015\, United States
CATEGORIES:Event,Featured Artist,Fun
ATTACH;FMTTYPE=image/jpeg:https://citylightsartgallery.org/wp-content/uploads/2024/04/Coral-Academy-of-Science-Art-Show-Reception-May-15-2024-1-scaled.jpg
ORGANIZER;CN="City Lights Art Gallery":MAILTO:CLAG.Gallery@gmail.com
END:VEVENT
BEGIN:VEVENT
DTSTART;TZID=America/Los_Angeles:20240512T090000
DTEND;TZID=America/Los_Angeles:20240512T160000
DTSTAMP:20260425T071109
CREATED:20240310T072704Z
LAST-MODIFIED:20240422T153055Z
UID:5232-1715504400-1715529600@citylightsartgallery.org
SUMMARY:Henderson Art Festival - May 11 & 12
DESCRIPTION:https://www.cityofhenderson.com/residents/special-interest/art-festival \n  \n \n  \n 
URL:https://citylightsartgallery.org/event/henderson-art-festival/2024-05-12
LOCATION:City Lights Art Gallery\, 3 East Army Street\, Henderson\, NV\, 89015\, United States
CATEGORIES:Event,Fun,Gallery
ATTACH;FMTTYPE=image/jpeg:https://citylightsartgallery.org/wp-content/uploads/2024/03/Art-Fest-2024-City-Of-Henderson-0309243-c-12.jpg
ORGANIZER;CN="City Lights Art Gallery":MAILTO:CLAG.Gallery@gmail.com
END:VEVENT
BEGIN:VEVENT
DTSTART;VALUE=DATE:20240501
DTEND;VALUE=DATE:20240502
DTSTAMP:20260425T071109
CREATED:20240419T190159Z
LAST-MODIFIED:20240419T190318Z
UID:5206-1714521600-1714607999@citylightsartgallery.org
SUMMARY:Scholarship Applications Due Today May 01\, 2024
DESCRIPTION:
URL:https://citylightsartgallery.org/event/scholarship-applications-due-today-may-01-2024
LOCATION:City Lights Art Gallery\, 3 East Army Street\, Henderson\, NV\, 89015\, United States
CATEGORIES:Event,Fun
ORGANIZER;CN="City Lights Art Gallery":MAILTO:CLAG.Gallery@gmail.com
END:VEVENT
BEGIN:VEVENT
DTSTART;TZID=America/Los_Angeles:20240418T180000
DTEND;TZID=America/Los_Angeles:20240418T200000
DTSTAMP:20260425T071109
CREATED:20240214T025827Z
LAST-MODIFIED:20240214T025827Z
UID:4839-1713463200-1713470400@citylightsartgallery.org
SUMMARY:Member Meeting (& Demonstration)
DESCRIPTION:Member Meeting and demonstration by Sujata Kishore.
URL:https://citylightsartgallery.org/event/member-meeting-demonstration-3
LOCATION:City Lights Art Gallery\, 3 East Army Street\, Henderson\, NV\, 89015\, United States
CATEGORIES:Event,Fun
ORGANIZER;CN="City Lights Art Gallery":MAILTO:CLAG.Gallery@gmail.com
END:VEVENT
BEGIN:VEVENT
DTSTART;TZID=America/Los_Angeles:20240329T160000
DTEND;TZID=America/Los_Angeles:20240329T200000
DTSTAMP:20260425T071109
CREATED:20240227T232425Z
LAST-MODIFIED:20240227T232443Z
UID:4861-1711728000-1711742400@citylightsartgallery.org
SUMMARY:Farmers Market & Art
DESCRIPTION:
URL:https://citylightsartgallery.org/event/farmers-market-art
LOCATION:City Lights Art Gallery\, 3 East Army Street\, Henderson\, NV\, 89015\, United States
CATEGORIES:Event,Fun
ATTACH;FMTTYPE=image/jpeg:https://citylightsartgallery.org/wp-content/uploads/2024/02/farmers-market-henderson-square-12-ARt-jpg-12.jpg
ORGANIZER;CN="City Lights Art Gallery":MAILTO:CLAG.Gallery@gmail.com
END:VEVENT
BEGIN:VEVENT
DTSTART;TZID=America/Los_Angeles:20240321T180000
DTEND;TZID=America/Los_Angeles:20240321T200000
DTSTAMP:20260425T071109
CREATED:20240214T025627Z
LAST-MODIFIED:20240321T040501Z
UID:4837-1711044000-1711051200@citylightsartgallery.org
SUMMARY:Member Meeting & Demo by Mary Tuczakov!
DESCRIPTION:Member Meeting and demonstration by Mary Tuczakov! \nMary will be demonstrating on finding the focal point and basic post-processing in Photoshop.
URL:https://citylightsartgallery.org/event/member-meeting-demonstration-2
LOCATION:City Lights Art Gallery\, 3 East Army Street\, Henderson\, NV\, 89015\, United States
CATEGORIES:Event,Fun
ORGANIZER;CN="City Lights Art Gallery":MAILTO:CLAG.Gallery@gmail.com
END:VEVENT
BEGIN:VEVENT
DTSTART;TZID=America/Los_Angeles:20240315T170000
DTEND;TZID=America/Los_Angeles:20240315T220000
DTSTAMP:20260425T071109
CREATED:20240310T074731Z
LAST-MODIFIED:20240313T030951Z
UID:4958-1710522000-1710540000@citylightsartgallery.org
SUMMARY:St. Patrick's Day in Henderson
DESCRIPTION:City Lights is having an Art Fair Pop Up during the St  Patrick’s Day festivities on Water Street!   Happening this weekend March 15\, 16\, & 17!!! \n\nIf you are interested in participating\, please send a text to Stephanie at 702-274-7287 for details\, or you can just show up on any of the three days!  The Pop Up will go from 12 noon until as long as you want to stay!
URL:https://citylightsartgallery.org/event/st-patricks-day-in-henderson/2024-03-15
LOCATION:City Lights Art Gallery\, 3 East Army Street\, Henderson\, NV\, 89015\, United States
CATEGORIES:Event,Fun
ATTACH;FMTTYPE=image/png:https://citylightsartgallery.org/wp-content/uploads/2024/03/St-Patricks-Day-2024-Progr-030924-from-C-of-Hen-page-1-png.png
ORGANIZER;CN="City Lights Art Gallery":MAILTO:CLAG.Gallery@gmail.com
END:VEVENT
BEGIN:VEVENT
DTSTART;TZID=America/Los_Angeles:20240215T180000
DTEND;TZID=America/Los_Angeles:20240215T200000
DTSTAMP:20260425T071109
CREATED:20240214T025428Z
LAST-MODIFIED:20240214T044506Z
UID:4835-1708020000-1708027200@citylightsartgallery.org
SUMMARY:Member Meeting (& Demonstration)
DESCRIPTION:Member Meeting Thursday\, February 15\, 2024 at 6 pm in person at the gallery! \nDiscussion to include “We Need You!:  Your Ideas\, Skills\, Leadership\, Participation!”\n \nThere will also be a demonstration by Karla Cloninger about Mixed Media Spirit Dolls!\n \nWe look forward to seeing you there!!!\n\n  \nMember Meeting Discussion Followed by a art demonstration by Susan LaBuda and Karla Cloninger.
URL:https://citylightsartgallery.org/event/member-meeting-demonstration
LOCATION:City Lights Art Gallery\, 3 East Army Street\, Henderson\, NV\, 89015\, United States
CATEGORIES:Event,Fun
ORGANIZER;CN="City Lights Art Gallery":MAILTO:CLAG.Gallery@gmail.com
END:VEVENT
BEGIN:VEVENT
DTSTART;TZID=America/Los_Angeles:20230630T160000
DTEND;TZID=America/Los_Angeles:20230630T200000
DTSTAMP:20260425T071109
CREATED:20230608T021150Z
LAST-MODIFIED:20230608T021430Z
UID:3819-1688140800-1688155200@citylightsartgallery.org
SUMMARY:Farmers/Art Market
DESCRIPTION:
URL:https://citylightsartgallery.org/event/farmers-art-market
LOCATION:City Lights Art Gallery\, 3 East Army Street\, Henderson\, NV\, 89015\, United States
CATEGORIES:Event,Fun
ATTACH;FMTTYPE=image/jpeg:https://citylightsartgallery.org/wp-content/uploads/2023/06/Farmers-Market-Lst-Friday-June-2023.jpg
ORGANIZER;CN="City Lights Art Gallery":MAILTO:CLAG.Gallery@gmail.com
END:VEVENT
END:VCALENDAR