BEGIN:VCALENDAR
VERSION:2.0
PRODID:-//CityLightsArtGallery - ECPv6.15.12.2//NONSGML v1.0//EN
CALSCALE:GREGORIAN
METHOD:PUBLISH
X-WR-CALNAME:CityLightsArtGallery
X-ORIGINAL-URL:https://citylightsartgallery.org
X-WR-CALDESC:Events for CityLightsArtGallery
REFRESH-INTERVAL;VALUE=DURATION:PT1H
X-Robots-Tag:noindex
X-PUBLISHED-TTL:PT1H
BEGIN:VTIMEZONE
TZID:America/Los_Angeles
BEGIN:DAYLIGHT
TZOFFSETFROM:-0800
TZOFFSETTO:-0700
TZNAME:PDT
DTSTART:20210314T100000
END:DAYLIGHT
BEGIN:STANDARD
TZOFFSETFROM:-0700
TZOFFSETTO:-0800
TZNAME:PST
DTSTART:20211107T090000
END:STANDARD
BEGIN:DAYLIGHT
TZOFFSETFROM:-0800
TZOFFSETTO:-0700
TZNAME:PDT
DTSTART:20220313T100000
END:DAYLIGHT
BEGIN:STANDARD
TZOFFSETFROM:-0700
TZOFFSETTO:-0800
TZNAME:PST
DTSTART:20221106T090000
END:STANDARD
BEGIN:DAYLIGHT
TZOFFSETFROM:-0800
TZOFFSETTO:-0700
TZNAME:PDT
DTSTART:20230312T100000
END:DAYLIGHT
BEGIN:STANDARD
TZOFFSETFROM:-0700
TZOFFSETTO:-0800
TZNAME:PST
DTSTART:20231105T090000
END:STANDARD
BEGIN:DAYLIGHT
TZOFFSETFROM:-0800
TZOFFSETTO:-0700
TZNAME:PDT
DTSTART:20240310T100000
END:DAYLIGHT
BEGIN:STANDARD
TZOFFSETFROM:-0700
TZOFFSETTO:-0800
TZNAME:PST
DTSTART:20241103T090000
END:STANDARD
END:VTIMEZONE
BEGIN:VEVENT
DTSTART;VALUE=DATE:20230513
DTEND;VALUE=DATE:20230514
DTSTAMP:20260425T054146
CREATED:20230506T032517Z
LAST-MODIFIED:20230507T023534Z
UID:3393-1683936000-1684022399@citylightsartgallery.org
SUMMARY:City Lights 2023 Silent Auction
DESCRIPTION:All items are at the gallery for viewing. \nhttps://clag.betterworld.org/auctions/city-lights-silent-auction
URL:https://citylightsartgallery.org/event/city-lights-2023-silent-auction
LOCATION:City Lights Art Gallery\, 3 East Army Street\, Henderson\, NV\, 89015\, United States
CATEGORIES:Event
ATTACH;FMTTYPE=image/jpeg:https://citylightsartgallery.org/wp-content/uploads/2023/05/Silent-Auction-Flyer-by-Susan-050623-12.jpg
ORGANIZER;CN="City Lights Art Gallery":MAILTO:CLAG.Gallery@gmail.com
END:VEVENT
BEGIN:VEVENT
DTSTART;TZID=America/Los_Angeles:20230506T130000
DTEND;TZID=America/Los_Angeles:20230506T150000
DTSTAMP:20260425T054146
CREATED:20230413T183558Z
LAST-MODIFIED:20230507T202244Z
UID:3133-1683378000-1683385200@citylightsartgallery.org
SUMMARY:Member Challenge Reception
DESCRIPTION:
URL:https://citylightsartgallery.org/event/member-challenge-reception
LOCATION:City Lights Art Gallery\, 3 East Army Street\, Henderson\, NV\, 89015\, United States
CATEGORIES:Event,Featured Artist
ATTACH;FMTTYPE=image/png:https://citylightsartgallery.org/wp-content/uploads/2023/04/Member-Challenge-May-2023-Reception-Flyer.png
ORGANIZER;CN="City Lights Art Gallery":MAILTO:CLAG.Gallery@gmail.com
END:VEVENT
BEGIN:VEVENT
DTSTART;TZID=America/Los_Angeles:20230501T230000
DTEND;TZID=America/Los_Angeles:20230501T233000
DTSTAMP:20260425T054146
CREATED:20230419T000017Z
LAST-MODIFIED:20230419T000322Z
UID:3163-1682982000-1682983800@citylightsartgallery.org
SUMMARY:2023 Scholarship Deadline for Entries
DESCRIPTION:  \nCity Lights Call for 2023 Scholarship Entries\nFor more information and to apply visit\nhttps://citylightsartgallery.org/scholarships \nPlease share this with anyone you know who might be interested!\nThank you! \n#2023scholarship #talentedstudents #localartists #supportthearts #vegasart #hendersonart #wsdba #artscholarship \n 
URL:https://citylightsartgallery.org/event/2023-schol
LOCATION:City Lights Art Gallery\, 3 East Army Street\, Henderson\, NV\, 89015\, United States
CATEGORIES:Event
ATTACH;FMTTYPE=image/jpeg:https://citylightsartgallery.org/wp-content/uploads/2023/04/Call-for-Studen-Scholarship-Entries-2023-sl-041723.jpeg
ORGANIZER;CN="City Lights Art Gallery":MAILTO:CLAG.Gallery@gmail.com
END:VEVENT
BEGIN:VEVENT
DTSTART;TZID=America/Los_Angeles:20230422T100000
DTEND;TZID=America/Los_Angeles:20230422T180000
DTSTAMP:20260425T054146
CREATED:20230123T203837Z
LAST-MODIFIED:20230404T204242Z
UID:2210-1682157600-1682186400@citylightsartgallery.org
SUMMARY:Art On Army Street - Has Been Cancelled
DESCRIPTION:Due to unforeseen circumstances\, Art on Army Street has been cancelled.\n \nDue to unforeseen circumstances\, Art on Army Street has been cancelled.\n\n 
URL:https://citylightsartgallery.org/event/art-on-army-street-earth-day-celebration
LOCATION:City Lights Art Gallery\, 3 East Army Street\, Henderson\, NV\, 89015\, United States
CATEGORIES:Event
ATTACH;FMTTYPE=image/jpeg:https://citylightsartgallery.org/wp-content/uploads/2023/04/Cancellation-of-Art-on-Army-St-pdf-b-jpg-8-e1680640887492.jpg
ORGANIZER;CN="City Lights Art Gallery":MAILTO:CLAG.Gallery@gmail.com
END:VEVENT
BEGIN:VEVENT
DTSTART;TZID=America/Los_Angeles:20230420T183000
DTEND;TZID=America/Los_Angeles:20230420T193000
DTSTAMP:20260425T054146
CREATED:20220711T234511Z
LAST-MODIFIED:20230306T014130Z
UID:422-1682015400-1682019000@citylightsartgallery.org
SUMMARY:Member Meeting
DESCRIPTION:This is an in person meeting being held at City Lights Art Gallery.\n3 East Army Street\, Henderson\, NV 89015 \nMember Meetings take place on the third Thursday of each month at 6:30 pm\, September to May.
URL:https://citylightsartgallery.org/event/board-meeting-3-2023-01-19-2023-03-16-2023-04-20/2023-04-20
LOCATION:Digital Event
CATEGORIES:Event
ATTACH;FMTTYPE=image/jpeg:https://citylightsartgallery.org/wp-content/uploads/2022/08/Vert-Member.jpg
ORGANIZER;CN="City Lights Art Gallery":MAILTO:CLAG.Gallery@gmail.com
END:VEVENT
BEGIN:VEVENT
DTSTART;TZID=America/Los_Angeles:20230408T130000
DTEND;TZID=America/Los_Angeles:20230408T150000
DTSTAMP:20260425T054146
CREATED:20230306T011714Z
LAST-MODIFIED:20230413T205134Z
UID:2626-1680958800-1680966000@citylightsartgallery.org
SUMMARY:Featured Artist Reception for Michael Mahalak
DESCRIPTION: 
URL:https://citylightsartgallery.org/event/featured-artist-reception-michael-mahalak
LOCATION:City Lights Art Gallery\, 3 East Army Street\, Henderson\, NV\, 89015\, United States
CATEGORIES:Event
ATTACH;FMTTYPE=image/jpeg:https://citylightsartgallery.org/wp-content/uploads/2023/03/mahalak2023-scaled.jpg
ORGANIZER;CN="City Lights Art Gallery":MAILTO:CLAG.Gallery@gmail.com
END:VEVENT
BEGIN:VEVENT
DTSTART;TZID=America/Los_Angeles:20230401T120000
DTEND;TZID=America/Los_Angeles:20230401T160000
DTSTAMP:20260425T054146
CREATED:20220810T225701Z
LAST-MODIFIED:20230315T185347Z
UID:1158-1680350400-1680364800@citylightsartgallery.org
SUMMARY:Show Pickup/Art Intake- 2nd Qtr
DESCRIPTION:The gallery will be taking in artwork to display for the 2nd Quarter of the year (must be a member to display during a Quarter- see Membership section if interested in joining).  The display will be up from April 5th to June 1st.  If you had artwork in the Spring Show\, it needs to be picked up March 31st or April 1st from noon to 4 pm. \nAll members showing in the gallery are required to sign up for shifts this quarter which covers the next 3 months (April – June).  If displaying a 1/2 panel\, one shift a month is required\, full panel two shifts are required.  The signup calendar will be available at art intake in the gallery for your convenience.  If you have any questions\, please contact the Gallery Director.
URL:https://citylightsartgallery.org/event/show-pickup-art-intake-2nd-session-2023-04-01
LOCATION:City Lights Art Gallery\, 3 East Army Street\, Henderson\, NV\, 89015\, United States
CATEGORIES:Art Intake/Pickup,Event
ATTACH;FMTTYPE=image/jpeg:https://citylightsartgallery.org/wp-content/uploads/2022/08/Artwork-Intake_Pickup.jpg
ORGANIZER;CN="City Lights Art Gallery":MAILTO:CLAG.Gallery@gmail.com
END:VEVENT
BEGIN:VEVENT
DTSTART;TZID=America/Los_Angeles:20230331T120000
DTEND;TZID=America/Los_Angeles:20230331T160000
DTSTAMP:20260425T054146
CREATED:20220810T225701Z
LAST-MODIFIED:20230315T185306Z
UID:1138-1680264000-1680278400@citylightsartgallery.org
SUMMARY:Show Pickup/Art Intake- 2nd Qtr
DESCRIPTION:The gallery will be taking in artwork to display for the 2nd Quarter of the year (must be a member to display during a Quarter- see Membership section if interested in joining).  The display will be up from April 5th to June 1st.  If you had artwork in the Spring Show\, it needs to be picked up March 31st or April 1st from noon to 4 pm. \nAll members showing in the gallery are required to sign up for shifts this quarter which covers the next 3 months (April – June).  If displaying a 1/2 panel\, one shift a month is required\, full panel two shifts are required.  The signup calendar will be available at art intake in the gallery for your convenience.  If you have any questions\, please contact the Gallery Director.
URL:https://citylightsartgallery.org/event/show-pickup-art-intake-2nd-session
LOCATION:City Lights Art Gallery\, 3 East Army Street\, Henderson\, NV\, 89015\, United States
CATEGORIES:Art Intake/Pickup,Event
ATTACH;FMTTYPE=image/jpeg:https://citylightsartgallery.org/wp-content/uploads/2022/08/Artwork-Intake_Pickup.jpg
ORGANIZER;CN="City Lights Art Gallery":MAILTO:CLAG.Gallery@gmail.com
END:VEVENT
BEGIN:VEVENT
DTSTART;TZID=America/Los_Angeles:20230327T100000
DTEND;TZID=America/Los_Angeles:20230327T130000
DTSTAMP:20260425T054146
CREATED:20230325T002910Z
LAST-MODIFIED:20230516T195411Z
UID:2925-1679911200-1679922000@citylightsartgallery.org
SUMMARY:Oil Painting with Linda Land
DESCRIPTION:Oil Class Mondays with Linda Land. \nInstructor: Linda Land (702) 885-7174 (Call instructor to confirm availability of class) \nCost $20.00 per class
URL:https://citylightsartgallery.org/event/oil-class-with-linda-land/2023-03-27
LOCATION:City Lights Art Gallery\, 3 East Army Street\, Henderson\, NV\, 89015\, United States
CATEGORIES:Class,Event
ATTACH;FMTTYPE=image/jpeg:https://citylightsartgallery.org/wp-content/uploads/2022/08/Vert-Class-Pic_2.jpg
END:VEVENT
BEGIN:VEVENT
DTSTART;TZID=America/Los_Angeles:20230325T090000
DTEND;TZID=America/Los_Angeles:20230325T120000
DTSTAMP:20260425T054146
CREATED:20230325T001542Z
LAST-MODIFIED:20230516T193616Z
UID:2764-1679734800-1679745600@citylightsartgallery.org
SUMMARY:Watercolor Class with Jan Schaeffer
DESCRIPTION:Watercolor Classes held on Saturday’s \nInstructor: Jan Schaeffer at (702) 498-3055 (Call ahead to confirm availability) \nCost $25.00 per class
URL:https://citylightsartgallery.org/event/2764/2023-03-25
LOCATION:City Lights Art Gallery\, 3 East Army Street\, Henderson\, NV\, 89015\, United States
CATEGORIES:Class,Event
ATTACH;FMTTYPE=image/jpeg:https://citylightsartgallery.org/wp-content/uploads/2022/08/Vert-Class-Pic_2.jpg
ORGANIZER;CN="Jan Schaeffer":MAILTO:jansigns3@gmail.com
END:VEVENT
BEGIN:VEVENT
DTSTART;TZID=America/Los_Angeles:20230316T183000
DTEND;TZID=America/Los_Angeles:20230316T193000
DTSTAMP:20260425T054146
CREATED:20220711T234511Z
LAST-MODIFIED:20230306T013842Z
UID:421-1678991400-1678995000@citylightsartgallery.org
SUMMARY:Member Meeting
DESCRIPTION:LVAG member Jessica Wesley will share tips for how to post your Art on Social Media. Bring a\nsmile and a dish to share. \nThis is an in person meeting being held at City Lights Art Gallery.\n3 East Army Street\, Henderson\, NV 89015 \nMember Meetings take place on the third Thursday of each month at 6:30 pm\, September to May.
URL:https://citylightsartgallery.org/event/board-meeting-3-2023-01-19-2023-03-16
LOCATION:Digital Event
CATEGORIES:Event
ATTACH;FMTTYPE=image/jpeg:https://citylightsartgallery.org/wp-content/uploads/2022/08/Vert-Member.jpg
ORGANIZER;CN="City Lights Art Gallery":MAILTO:CLAG.Gallery@gmail.com
END:VEVENT
BEGIN:VEVENT
DTSTART;TZID=America/Los_Angeles:20230311T130000
DTEND;TZID=America/Los_Angeles:20230311T160000
DTSTAMP:20260425T054146
CREATED:20220810T232143Z
LAST-MODIFIED:20230313T231923Z
UID:1154-1678539600-1678550400@citylightsartgallery.org
SUMMARY:Spring Juried Show Reception
DESCRIPTION:Spring Juried Show Flyer of Winners PDF Click Here \nThank you to everyone who came to the Spring Juried Show Reception and congratulations to all the winners!  Thank you to everyone who entered the show!  Events like this help support the gallery’s mission of funding the scholarship fund!!! \nArt from the show will be up throughout the month of March.  The gallery is open 12 to 4pm Wednesday to Sunday.  Thank you for supporting City Lights and local artists! \n                                         \nSaturday\, March 11th\, from 1 to 4 pm.  All are welcome to attend!  Light refreshments!  Awards will be announced starting at 2:00 pm.
URL:https://citylightsartgallery.org/event/spring-juried-show-reception
LOCATION:City Lights Art Gallery\, 3 East Army Street\, Henderson\, NV\, 89015\, United States
CATEGORIES:Event,Juried Shows
ATTACH;FMTTYPE=image/jpeg:https://citylightsartgallery.org/wp-content/uploads/2022/08/Spring_Reception.jpg
ORGANIZER;CN="City Lights Art Gallery":MAILTO:CLAG.Gallery@gmail.com
END:VEVENT
BEGIN:VEVENT
DTSTART;TZID=America/Los_Angeles:20230225T120000
DTEND;TZID=America/Los_Angeles:20230225T160000
DTSTAMP:20260425T054146
CREATED:20220810T231707Z
LAST-MODIFIED:20230203T004717Z
UID:2218-1677326400-1677340800@citylightsartgallery.org
SUMMARY:Spring Juried Show Intake
DESCRIPTION:Members and nonmembers are invited to drop off their artwork for our Spring Juried show at the gallery from noon until 4:00 pm.  Please make sure to have all relevant paperwork filled out in advance to reduce long waits. \nThe show will be on display from March 8th to March 30th.  The awards reception will be on March 11th from 1 to 4 pm and the awards will be announced at 2:00 pm.  Make sure to invite friends and family to view your artwork and all are welcomed to the reception!  Good luck!
URL:https://citylightsartgallery.org/event/spring-juried-show-intake-2023-02-25
LOCATION:City Lights Art Gallery\, 3 East Army Street\, Henderson\, NV\, 89015\, United States
CATEGORIES:Art Intake/Pickup,Event,Juried Shows
ATTACH;FMTTYPE=image/jpeg:https://citylightsartgallery.org/wp-content/uploads/2022/08/Spring_Show.jpg
ORGANIZER;CN="City Lights Art Gallery":MAILTO:CLAG.Gallery@gmail.com
END:VEVENT
BEGIN:VEVENT
DTSTART;TZID=America/Los_Angeles:20230224T120000
DTEND;TZID=America/Los_Angeles:20230224T160000
DTSTAMP:20260425T054146
CREATED:20220810T231707Z
LAST-MODIFIED:20230203T004630Z
UID:1143-1677240000-1677254400@citylightsartgallery.org
SUMMARY:Spring Juried Show Intake
DESCRIPTION:Members and nonmembers are invited to drop off their artwork for our Spring Juried show at the gallery from noon until 4:00 pm.  Please make sure to have all relevant paperwork filled out in advance to reduce long waits. \nThe show will be on display from March 8th to March 30th.  The awards reception will be on March 11th from 1 to 4 pm and the awards will be announced at 2:00 pm.  Make sure to invite friends and family to view your artwork and all are welcomed to the reception!  Good luck! tion!  Good luck!!!
URL:https://citylightsartgallery.org/event/spring-juried-show-intake
LOCATION:City Lights Art Gallery\, 3 East Army Street\, Henderson\, NV\, 89015\, United States
CATEGORIES:Art Intake/Pickup,Event,Juried Shows
ATTACH;FMTTYPE=image/jpeg:https://citylightsartgallery.org/wp-content/uploads/2022/08/Spring_Show.jpg
ORGANIZER;CN="City Lights Art Gallery":MAILTO:CLAG.Gallery@gmail.com
END:VEVENT
BEGIN:VEVENT
DTSTART;TZID=America/Los_Angeles:20230216T183000
DTEND;TZID=America/Los_Angeles:20230216T193000
DTSTAMP:20260425T054146
CREATED:20220711T234511Z
LAST-MODIFIED:20230119T195750Z
UID:420-1676572200-1676575800@citylightsartgallery.org
SUMMARY:Member Meeting
DESCRIPTION:Joyce Owens will show us how to make acrylics behave like oils at our February meeting! \nThis is an inperson meeting being held at City Lights Art Gallery.\n3 East Army Street\, Henderson\, NV  89015 \nMember Meetings take place on the third Thursday of each month at 6:30 pm\, September to May.
URL:https://citylightsartgallery.org/event/board-meeting-3-2023-01-19-2023-02-16
LOCATION:Digital Event
CATEGORIES:Event
ATTACH;FMTTYPE=image/jpeg:https://citylightsartgallery.org/wp-content/uploads/2022/08/Vert-Member.jpg
ORGANIZER;CN="City Lights Art Gallery":MAILTO:CLAG.Gallery@gmail.com
END:VEVENT
BEGIN:VEVENT
DTSTART;TZID=America/Los_Angeles:20230215T183000
DTEND;TZID=America/Los_Angeles:20230215T200000
DTSTAMP:20260425T054146
CREATED:20230207T220534Z
LAST-MODIFIED:20230407T215534Z
UID:2417-1676485800-1676491200@citylightsartgallery.org
SUMMARY:Photo Show Planning Meeting
DESCRIPTION:June 2023 – Annual Photography Show – Details to be announced. \nIf you are interested in being on the planning committee\, please email John Phelps at CLAG.PhotoShow@gmail.com for a Zoom link.  The committee meets on the 3rd Wednesday of the month at 6:30 pm.
URL:https://citylightsartgallery.org/event/photo-show-planning-meeting/2023-02-15
LOCATION:Digital Event
CATEGORIES:Event,Juried Shows
ATTACH;FMTTYPE=image/jpeg:https://citylightsartgallery.org/wp-content/uploads/2023/02/CLAG-Photo-Show-Intake-June-2022-Save-the-Date-ggh-c-12.jpg
ORGANIZER;CN="City Lights Art Gallery":MAILTO:CLAG.Gallery@gmail.com
END:VEVENT
BEGIN:VEVENT
DTSTART;TZID=America/Los_Angeles:20230212T120000
DTEND;TZID=America/Los_Angeles:20230212T150000
DTSTAMP:20260425T054146
CREATED:20230118T042847Z
LAST-MODIFIED:20230214T045003Z
UID:2168-1676203200-1676214000@citylightsartgallery.org
SUMMARY:Chris Mazglad:  "Now What?" - Artist Reception
DESCRIPTION:SUBJECT: City Lights Art Gallery’s Featured Artist February 2023 \nRECEPTION: Sunday\, February 12th\, from 2 to 4 pm \nCity Lights Art Gallery is proud to announce February’s Featured Artist: Chris Mazglad and her exhibit “Now What?” \nYou never know what you’ll see next but before she’s done\, she’s usually asking\, “Now What?” Chris Mazglad enjoys creating art across a wide spectrum. Whether it’s a commissioned portrait where realism reigns\, an abstract meant to inspire the imagination or the use of new and unusual materials on more traditional subjects\, Chris is game. She uses oil\, acrylic or any medium that will create an eye-catching piece. She also likes to experiment with different substrates to create functional art. \nOriginally from Michigan\, Mazglad has been a life-long lover of art and great design. With no early art training\, Mazglad began painting when she retired in order to ensure a continuing stream of fresh\, inspirational artwork. Her award-winning work can be found in private\, public\, and commercial venues across the country. She enjoys painting in groups twice weekly to continue to hone her skills and be energized by other artists. \nShe enjoyed a 30+ year career with General Motors that allowed her to experience places and people worldwide. That experience has allowed her to apply those business skills to City Lights Artists’ Co-op\, a 501(c)3 non-profit where she had served as an officer since 2014. \nFor more information about Chris\, please visit: www.mazartdesign.com\nYou can contact Chris directly at doorartbymaz@aol.com \nGlow
URL:https://citylightsartgallery.org/event/chris-mazglad-now-what-artist-reception
LOCATION:City Lights Art Gallery\, 3 East Army Street\, Henderson\, NV\, 89015\, United States
CATEGORIES:Event,Featured Artist
ATTACH;FMTTYPE=image/jpeg:https://citylightsartgallery.org/wp-content/uploads/2023/01/Chris-Mazglad-Feature-Artist-February-2023-012523-banner-5.jpg
ORGANIZER;CN="City Lights Art Gallery":MAILTO:CLAG.Gallery@gmail.com
END:VEVENT
BEGIN:VEVENT
DTSTART;TZID=America/Los_Angeles:20230212T090000
DTEND;TZID=America/Los_Angeles:20230212T160000
DTSTAMP:20260425T054146
CREATED:20230123T203114Z
LAST-MODIFIED:20230214T044833Z
UID:2204-1676192400-1676217600@citylightsartgallery.org
SUMMARY:Valentine's Day Art Fair Pop Up
DESCRIPTION: 
URL:https://citylightsartgallery.org/event/valentines-day-art-fair-pop-up
LOCATION:City Lights Art Gallery\, 3 East Army Street\, Henderson\, NV\, 89015\, United States
CATEGORIES:Event
ATTACH;FMTTYPE=image/jpeg:https://citylightsartgallery.org/wp-content/uploads/2023/01/Valentine-pop-up-flyer-jpg-featured-pic-12.jpg
ORGANIZER;CN="City Lights Art Gallery":MAILTO:CLAG.Gallery@gmail.com
END:VEVENT
BEGIN:VEVENT
DTSTART;TZID=America/Los_Angeles:20230204T140000
DTEND;TZID=America/Los_Angeles:20230204T160000
DTSTAMP:20260425T054146
CREATED:20230119T193144Z
LAST-MODIFIED:20230123T210657Z
UID:2186-1675519200-1675526400@citylightsartgallery.org
SUMMARY:Art Clay Silver Class with Kristi Watson
DESCRIPTION:Click here for info and pdf file:\nValentines Art Clay Silver Class – Kristi Watson 020423
URL:https://citylightsartgallery.org/event/2186
LOCATION:City Lights Art Gallery\, 3 East Army Street\, Henderson\, NV\, 89015\, United States
CATEGORIES:Class,Event
ATTACH;FMTTYPE=image/jpeg:https://citylightsartgallery.org/wp-content/uploads/2023/01/Valentines-Art-Clay-Silver-Class-Kristi-Watson-020423-1-banner.jpg
ORGANIZER;CN="City Lights Art Gallery":MAILTO:CLAG.Gallery@gmail.com
END:VEVENT
BEGIN:VEVENT
DTSTART;TZID=America/Los_Angeles:20230121T140000
DTEND;TZID=America/Los_Angeles:20230121T160000
DTSTAMP:20260425T054146
CREATED:20230111T194117Z
LAST-MODIFIED:20230127T043054Z
UID:1963-1674309600-1674316800@citylightsartgallery.org
SUMMARY:Reception for Artist of the Month:  Bill Bon
DESCRIPTION:
URL:https://citylightsartgallery.org/event/reception-for-artist-of-the-month-bill-bon
LOCATION:City Lights Art Gallery\, 3 East Army Street\, Henderson\, NV\, 89015\, United States
CATEGORIES:Event
ATTACH;FMTTYPE=image/jpeg:https://citylightsartgallery.org/wp-content/uploads/2023/01/Bill-Bon-Artist-of-the-Month-by-KCloninger-jpg-scaled.jpg
ORGANIZER;CN="City Lights Art Gallery":MAILTO:CLAG.Gallery@gmail.com
END:VEVENT
BEGIN:VEVENT
DTSTART;TZID=America/Los_Angeles:20230119T183000
DTEND;TZID=America/Los_Angeles:20230119T193000
DTSTAMP:20260425T054146
CREATED:20220711T234511Z
LAST-MODIFIED:20230119T195459Z
UID:419-1674153000-1674156600@citylightsartgallery.org
SUMMARY:Member Meeting
DESCRIPTION:Karla Cloninger will demonstrate some of her mixed media techniques at our Member Meeting\, Thursday\, January 19th @ 6:30 pm \nThis is an inperson meeting being held at City Lights Art Gallery.\n3 East Army Street\, Henderson\, NV  89015 \nMember Meetings take place on the third Thursday of each month at 6:30 pm\, September to May.
URL:https://citylightsartgallery.org/event/board-meeting-3-2023-01-19
LOCATION:Digital Event
CATEGORIES:Event
ATTACH;FMTTYPE=image/jpeg:https://citylightsartgallery.org/wp-content/uploads/2022/08/Vert-Member.jpg
ORGANIZER;CN="City Lights Art Gallery":MAILTO:CLAG.Gallery@gmail.com
END:VEVENT
BEGIN:VEVENT
DTSTART;TZID=America/Los_Angeles:20221117T183000
DTEND;TZID=America/Los_Angeles:20221117T193000
DTSTAMP:20260425T054146
CREATED:20220711T234511Z
LAST-MODIFIED:20221109T194206Z
UID:239-1668709800-1668713400@citylightsartgallery.org
SUMMARY:Member Meeting
DESCRIPTION:Member Meetings take place on the third Thursday of each month at 6:30 pm. Currently\, they are via Zoom until further notice. If you are interested in “Zooming In” please contact us and you will be sent a link to the Zoom meeting the morning of the meeting. \nThursday\, November 17\, 2022 Member Meeting \nTopic: Member Meeting: Officer Elections; Bill Bon on Ink Painting Techniques\nTime: Nov 17\, 2022 06:30 PM Pacific Time (US and Canada) \nJoin Zoom Meeting\nhttps://us02web.zoom.us/j/83505161582?pwd=cks0VkZSekI5dmd0QldFcmZzeHVOZz09 \nMeeting ID: 835 0516 1582\nPasscode: 241683 \n 
URL:https://citylightsartgallery.org/event/board-meeting-3
LOCATION:Digital Event
CATEGORIES:Event
ATTACH;FMTTYPE=image/jpeg:https://citylightsartgallery.org/wp-content/uploads/2022/08/Vert-Member.jpg
ORGANIZER;CN="City Lights Art Gallery":MAILTO:CLAG.Gallery@gmail.com
END:VEVENT
BEGIN:VEVENT
DTSTART;TZID=America/Los_Angeles:20220910T130000
DTEND;TZID=America/Los_Angeles:20220910T150000
DTSTAMP:20260425T054146
CREATED:20220711T233657Z
LAST-MODIFIED:20220810T232022Z
UID:232-1662814800-1662822000@citylightsartgallery.org
SUMMARY:Fall Juried Show Reception
DESCRIPTION:Fall Juried Show Reception will be held at the gallery on Saturday\, September 10\, from 1 to 3 pm.  All are welcome to attend!  Light refreshments!  Awards will be announced starting at 1:30 pm.
URL:https://citylightsartgallery.org/event/board-meeting
LOCATION:City Lights Art Gallery\, 3 East Army Street\, Henderson\, NV\, 89015\, United States
CATEGORIES:Event,Juried Shows
ATTACH;FMTTYPE=image/jpeg:https://citylightsartgallery.org/wp-content/uploads/2022/08/Fall_Show_Reception_Generic.jpg
ORGANIZER;CN="City Lights Art Gallery":MAILTO:CLAG.Gallery@gmail.com
END:VEVENT
BEGIN:VEVENT
DTSTART;TZID=America/Los_Angeles:20220813T133000
DTEND;TZID=America/Los_Angeles:20220813T153000
DTSTAMP:20260425T054146
CREATED:20220806T011408Z
LAST-MODIFIED:20230112T042221Z
UID:948-1660397400-1660404600@citylightsartgallery.org
SUMMARY:Meet the Artist Reception- Isabela Vasile\, "Rebel Spirit"
DESCRIPTION:August Featured Artist \nIsabela Vasile will be hosting her “Rebel Spirit” exhibit reception; open to the public. \nFor more information about Isabela: Instagram @isabelagallery\, @jessebelleboutique\, @jeseble.ink
URL:https://citylightsartgallery.org/event/meet-the-artist
LOCATION:City Lights Art Gallery\, 3 East Army Street\, Henderson\, NV\, 89015\, United States
CATEGORIES:Event,Featured Artist
ATTACH;FMTTYPE=image/jpeg:https://citylightsartgallery.org/wp-content/uploads/2022/08/FA-Reception-1.jpg
ORGANIZER;CN="City Lights Art Gallery":MAILTO:CLAG.Gallery@gmail.com
END:VEVENT
END:VCALENDAR