BEGIN:VCALENDAR
VERSION:2.0
PRODID:-//CityLightsArtGallery - ECPv6.15.12.2//NONSGML v1.0//EN
CALSCALE:GREGORIAN
METHOD:PUBLISH
X-WR-CALNAME:CityLightsArtGallery
X-ORIGINAL-URL:https://citylightsartgallery.org
X-WR-CALDESC:Events for CityLightsArtGallery
REFRESH-INTERVAL;VALUE=DURATION:PT1H
X-Robots-Tag:noindex
X-PUBLISHED-TTL:PT1H
BEGIN:VTIMEZONE
TZID:America/Los_Angeles
BEGIN:DAYLIGHT
TZOFFSETFROM:-0800
TZOFFSETTO:-0700
TZNAME:PDT
DTSTART:20220313T100000
END:DAYLIGHT
BEGIN:STANDARD
TZOFFSETFROM:-0700
TZOFFSETTO:-0800
TZNAME:PST
DTSTART:20221106T090000
END:STANDARD
BEGIN:DAYLIGHT
TZOFFSETFROM:-0800
TZOFFSETTO:-0700
TZNAME:PDT
DTSTART:20230312T100000
END:DAYLIGHT
BEGIN:STANDARD
TZOFFSETFROM:-0700
TZOFFSETTO:-0800
TZNAME:PST
DTSTART:20231105T090000
END:STANDARD
BEGIN:DAYLIGHT
TZOFFSETFROM:-0800
TZOFFSETTO:-0700
TZNAME:PDT
DTSTART:20240310T100000
END:DAYLIGHT
BEGIN:STANDARD
TZOFFSETFROM:-0700
TZOFFSETTO:-0800
TZNAME:PST
DTSTART:20241103T090000
END:STANDARD
BEGIN:DAYLIGHT
TZOFFSETFROM:-0800
TZOFFSETTO:-0700
TZNAME:PDT
DTSTART:20250309T100000
END:DAYLIGHT
BEGIN:STANDARD
TZOFFSETFROM:-0700
TZOFFSETTO:-0800
TZNAME:PST
DTSTART:20251102T090000
END:STANDARD
END:VTIMEZONE
BEGIN:VEVENT
DTSTART;TZID=America/Los_Angeles:20240522T100000
DTEND;TZID=America/Los_Angeles:20240522T130000
DTSTAMP:20260423T114405
CREATED:20240417T204549Z
LAST-MODIFIED:20240417T204627Z
UID:5201-1716372000-1716382800@citylightsartgallery.org
SUMMARY:A Painting Class for Absolute Beginners with Terri Thompson
DESCRIPTION:If interested email Terri directly at tthompson1952@gmail.com
URL:https://citylightsartgallery.org/event/a-painting-class-for-absolute-beginners-with-terri-thompson
LOCATION:City Lights Art Gallery\, 3 East Army Street\, Henderson\, NV\, 89015\, United States
CATEGORIES:Class,Event,Fun
ATTACH;FMTTYPE=image/jpeg:https://citylightsartgallery.org/wp-content/uploads/2024/04/Terri-Thompson-Intro-Paint-Workshop-042224-IMG_1916-scaled.jpg
ORGANIZER;CN="City Lights Art Gallery":MAILTO:CLAG.Gallery@gmail.com
END:VEVENT
BEGIN:VEVENT
DTSTART;TZID=America/Los_Angeles:20240516T180000
DTEND;TZID=America/Los_Angeles:20240516T200000
DTSTAMP:20260423T114405
CREATED:20240214T030040Z
LAST-MODIFIED:20240214T030313Z
UID:4842-1715882400-1715889600@citylightsartgallery.org
SUMMARY:Member Meeting - CRITIQUES
DESCRIPTION:Member Meeting and CRITIQUES
URL:https://citylightsartgallery.org/event/member-meeting-critiques
LOCATION:City Lights Art Gallery\, 3 East Army Street\, Henderson\, NV\, 89015\, United States
CATEGORIES:Event,Fun
ORGANIZER;CN="City Lights Art Gallery":MAILTO:CLAG.Gallery@gmail.com
END:VEVENT
BEGIN:VEVENT
DTSTART;TZID=America/Los_Angeles:20240515T170000
DTEND;TZID=America/Los_Angeles:20240515T190000
DTSTAMP:20260423T114405
CREATED:20240417T202244Z
LAST-MODIFIED:20240506T232647Z
UID:5198-1715792400-1715799600@citylightsartgallery.org
SUMMARY:Coral Academy of Science Student Art Reception
DESCRIPTION:
URL:https://citylightsartgallery.org/event/coral-academy-of-science-student-art-reception
LOCATION:City Lights Art Gallery\, 3 East Army Street\, Henderson\, NV\, 89015\, United States
CATEGORIES:Event,Featured Artist,Fun
ATTACH;FMTTYPE=image/jpeg:https://citylightsartgallery.org/wp-content/uploads/2024/04/Coral-Academy-of-Science-Art-Show-Reception-May-15-2024-1-scaled.jpg
ORGANIZER;CN="City Lights Art Gallery":MAILTO:CLAG.Gallery@gmail.com
END:VEVENT
BEGIN:VEVENT
DTSTART;TZID=America/Los_Angeles:20240514T150000
DTEND;TZID=America/Los_Angeles:20240514T170000
DTSTAMP:20260423T114405
CREATED:20220711T234429Z
LAST-MODIFIED:20220806T014714Z
UID:388-1715698800-1715706000@citylightsartgallery.org
SUMMARY:Board Meeting
DESCRIPTION:Board Meetings take place on the second Tuesday of each month at 3 pm. Currently\, they are via Zoom until further notice. If you are interested in “Zooming In” please contact us and you will be sent a link to the Zoom meeting the morning of the meeting.
URL:https://citylightsartgallery.org/event/board-meeting-2/2024-05-14
LOCATION:Digital Event
CATEGORIES:Event
ATTACH;FMTTYPE=image/jpeg:https://citylightsartgallery.org/wp-content/uploads/2022/08/Vert-Board_1.jpg
ORGANIZER;CN="City Lights Art Gallery":MAILTO:CLAG.Gallery@gmail.com
END:VEVENT
BEGIN:VEVENT
DTSTART;TZID=America/Los_Angeles:20240512T090000
DTEND;TZID=America/Los_Angeles:20240512T160000
DTSTAMP:20260423T114405
CREATED:20240310T072704Z
LAST-MODIFIED:20240422T153055Z
UID:5232-1715504400-1715529600@citylightsartgallery.org
SUMMARY:Henderson Art Festival - May 11 & 12
DESCRIPTION:https://www.cityofhenderson.com/residents/special-interest/art-festival \n  \n \n  \n 
URL:https://citylightsartgallery.org/event/henderson-art-festival/2024-05-12
LOCATION:City Lights Art Gallery\, 3 East Army Street\, Henderson\, NV\, 89015\, United States
CATEGORIES:Event,Fun,Gallery
ATTACH;FMTTYPE=image/jpeg:https://citylightsartgallery.org/wp-content/uploads/2024/03/Art-Fest-2024-City-Of-Henderson-0309243-c-12.jpg
ORGANIZER;CN="City Lights Art Gallery":MAILTO:CLAG.Gallery@gmail.com
END:VEVENT
BEGIN:VEVENT
DTSTART;VALUE=DATE:20240501
DTEND;VALUE=DATE:20240502
DTSTAMP:20260423T114405
CREATED:20240419T190159Z
LAST-MODIFIED:20240419T190318Z
UID:5206-1714521600-1714607999@citylightsartgallery.org
SUMMARY:Scholarship Applications Due Today May 01\, 2024
DESCRIPTION:
URL:https://citylightsartgallery.org/event/scholarship-applications-due-today-may-01-2024
LOCATION:City Lights Art Gallery\, 3 East Army Street\, Henderson\, NV\, 89015\, United States
CATEGORIES:Event,Fun
ORGANIZER;CN="City Lights Art Gallery":MAILTO:CLAG.Gallery@gmail.com
END:VEVENT
BEGIN:VEVENT
DTSTART;TZID=America/Los_Angeles:20240426T160000
DTEND;TZID=America/Los_Angeles:20240426T200000
DTSTAMP:20260423T114405
CREATED:20240401T225710Z
LAST-MODIFIED:20240401T225711Z
UID:5165-1714147200-1714161600@citylightsartgallery.org
SUMMARY:Farmers Market/Art
DESCRIPTION:
URL:https://citylightsartgallery.org/event/farmers-market-art-2
LOCATION:City Lights Art Gallery\, 3 East Army Street\, Henderson\, NV\, 89015\, United States
CATEGORIES:Event
ATTACH;FMTTYPE=image/jpeg:https://citylightsartgallery.org/wp-content/uploads/2024/02/farmers-market-henderson-square-12-ARt-jpg-12.jpg
ORGANIZER;CN="City Lights Art Gallery":MAILTO:CLAG.Gallery@gmail.com
END:VEVENT
BEGIN:VEVENT
DTSTART;VALUE=DATE:20240422
DTEND;VALUE=DATE:20240423
DTSTAMP:20260423T114405
CREATED:20240228T040907Z
LAST-MODIFIED:20240228T041324Z
UID:4866-1713744000-1713830399@citylightsartgallery.org
SUMMARY:2024 Scholarship Entries Due
DESCRIPTION:
URL:https://citylightsartgallery.org/event/2024-scholarship-entries-due
LOCATION:City Lights Art Gallery\, 3 East Army Street\, Henderson\, NV\, 89015\, United States
CATEGORIES:Event
ATTACH;FMTTYPE=image/png:https://citylightsartgallery.org/wp-content/uploads/2024/02/Scholarship-Cover-Letter-2024-City-Lights-8.5x11-300.png
ORGANIZER;CN="City Lights Art Gallery":MAILTO:CLAG.Gallery@gmail.com
END:VEVENT
BEGIN:VEVENT
DTSTART;TZID=America/Los_Angeles:20240420T100000
DTEND;TZID=America/Los_Angeles:20240420T140000
DTSTAMP:20260423T114405
CREATED:20240305T051220Z
LAST-MODIFIED:20240305T051725Z
UID:4926-1713607200-1713621600@citylightsartgallery.org
SUMMARY:Brighten Up The Gallery
DESCRIPTION:Come help brighten up the gallery!!! Lunch will be provided to all who volunteer!!! \n \n 
URL:https://citylightsartgallery.org/event/brighten-up-the-gallery
LOCATION:City Lights Art Gallery\, 3 East Army Street\, Henderson\, NV\, 89015\, United States
CATEGORIES:Event,Gallery
ATTACH;FMTTYPE=image/png:https://citylightsartgallery.org/wp-content/uploads/2024/03/Brighten-Up-Flyer-for-042024.png
ORGANIZER;CN="City Lights Art Gallery":MAILTO:CLAG.Gallery@gmail.com
END:VEVENT
BEGIN:VEVENT
DTSTART;TZID=America/Los_Angeles:20240418T180000
DTEND;TZID=America/Los_Angeles:20240418T200000
DTSTAMP:20260423T114405
CREATED:20240214T025827Z
LAST-MODIFIED:20240214T025827Z
UID:4839-1713463200-1713470400@citylightsartgallery.org
SUMMARY:Member Meeting (& Demonstration)
DESCRIPTION:Member Meeting and demonstration by Sujata Kishore.
URL:https://citylightsartgallery.org/event/member-meeting-demonstration-3
LOCATION:City Lights Art Gallery\, 3 East Army Street\, Henderson\, NV\, 89015\, United States
CATEGORIES:Event,Fun
ORGANIZER;CN="City Lights Art Gallery":MAILTO:CLAG.Gallery@gmail.com
END:VEVENT
BEGIN:VEVENT
DTSTART;TZID=America/Los_Angeles:20240413T170000
DTEND;TZID=America/Los_Angeles:20240413T190000
DTSTAMP:20260423T114405
CREATED:20240321T040841Z
LAST-MODIFIED:20240321T040841Z
UID:5128-1713027600-1713034800@citylightsartgallery.org
SUMMARY:Featured Artist Reception:  Susan LaBuda
DESCRIPTION:
URL:https://citylightsartgallery.org/event/featured-artist-reception-susan-labuda
LOCATION:City Lights Art Gallery\, 3 East Army Street\, Henderson\, NV\, 89015\, United States
CATEGORIES:Event,Featured Artist,Gallery,Newsletter
ATTACH;FMTTYPE=image/png:https://citylightsartgallery.org/wp-content/uploads/2024/03/Susan-LaBude-Featured-Artist-April-2024.png
ORGANIZER;CN="City Lights Art Gallery":MAILTO:CLAG.Gallery@gmail.com
END:VEVENT
BEGIN:VEVENT
DTSTART;TZID=America/Los_Angeles:20240329T160000
DTEND;TZID=America/Los_Angeles:20240329T200000
DTSTAMP:20260423T114405
CREATED:20240227T232425Z
LAST-MODIFIED:20240227T232443Z
UID:4861-1711728000-1711742400@citylightsartgallery.org
SUMMARY:Farmers Market & Art
DESCRIPTION:
URL:https://citylightsartgallery.org/event/farmers-market-art
LOCATION:City Lights Art Gallery\, 3 East Army Street\, Henderson\, NV\, 89015\, United States
CATEGORIES:Event,Fun
ATTACH;FMTTYPE=image/jpeg:https://citylightsartgallery.org/wp-content/uploads/2024/02/farmers-market-henderson-square-12-ARt-jpg-12.jpg
ORGANIZER;CN="City Lights Art Gallery":MAILTO:CLAG.Gallery@gmail.com
END:VEVENT
BEGIN:VEVENT
DTSTART;TZID=America/Los_Angeles:20240328T160000
DTEND;TZID=America/Los_Angeles:20240328T200000
DTSTAMP:20260423T114405
CREATED:20240127T051709Z
LAST-MODIFIED:20240127T051709Z
UID:4788-1711641600-1711656000@citylightsartgallery.org
SUMMARY:Last Thursday - Gallery Open
DESCRIPTION:Last Thursday of the Month the gallery is open from 4 to 8 pm!
URL:https://citylightsartgallery.org/event/last-thursday-gallery-open-2
LOCATION:City Lights Art Gallery\, 3 East Army Street\, Henderson\, NV\, 89015\, United States
CATEGORIES:Event
ORGANIZER;CN="City Lights Art Gallery":MAILTO:CLAG.Gallery@gmail.com
END:VEVENT
BEGIN:VEVENT
DTSTART;TZID=America/Los_Angeles:20240325T130000
DTEND;TZID=America/Los_Angeles:20240325T160000
DTSTAMP:20260423T114405
CREATED:20240308T025834Z
LAST-MODIFIED:20240308T030029Z
UID:4940-1711371600-1711382400@citylightsartgallery.org
SUMMARY:Watercolor Workshop with Barbara Mathews
DESCRIPTION:
URL:https://citylightsartgallery.org/event/watercolor-workshop-with-barbara-mathews/2024-03-25
LOCATION:City Lights Art Gallery\, 3 East Army Street\, Henderson\, NV\, 89015\, United States
CATEGORIES:Class,Event,Gallery
ATTACH;FMTTYPE=image/png:https://citylightsartgallery.org/wp-content/uploads/2024/03/Watercolor-workshop.png
ORGANIZER;CN="City Lights Art Gallery":MAILTO:CLAG.Gallery@gmail.com
END:VEVENT
BEGIN:VEVENT
DTSTART;TZID=America/Los_Angeles:20240321T180000
DTEND;TZID=America/Los_Angeles:20240321T200000
DTSTAMP:20260423T114405
CREATED:20240214T025627Z
LAST-MODIFIED:20240321T040501Z
UID:4837-1711044000-1711051200@citylightsartgallery.org
SUMMARY:Member Meeting & Demo by Mary Tuczakov!
DESCRIPTION:Member Meeting and demonstration by Mary Tuczakov! \nMary will be demonstrating on finding the focal point and basic post-processing in Photoshop.
URL:https://citylightsartgallery.org/event/member-meeting-demonstration-2
LOCATION:City Lights Art Gallery\, 3 East Army Street\, Henderson\, NV\, 89015\, United States
CATEGORIES:Event,Fun
ORGANIZER;CN="City Lights Art Gallery":MAILTO:CLAG.Gallery@gmail.com
END:VEVENT
BEGIN:VEVENT
DTSTART;TZID=America/Los_Angeles:20240315T170000
DTEND;TZID=America/Los_Angeles:20240315T220000
DTSTAMP:20260423T114405
CREATED:20240310T074731Z
LAST-MODIFIED:20240313T030951Z
UID:4958-1710522000-1710540000@citylightsartgallery.org
SUMMARY:St. Patrick's Day in Henderson
DESCRIPTION:City Lights is having an Art Fair Pop Up during the St  Patrick’s Day festivities on Water Street!   Happening this weekend March 15\, 16\, & 17!!! \n\nIf you are interested in participating\, please send a text to Stephanie at 702-274-7287 for details\, or you can just show up on any of the three days!  The Pop Up will go from 12 noon until as long as you want to stay!
URL:https://citylightsartgallery.org/event/st-patricks-day-in-henderson/2024-03-15
LOCATION:City Lights Art Gallery\, 3 East Army Street\, Henderson\, NV\, 89015\, United States
CATEGORIES:Event,Fun
ATTACH;FMTTYPE=image/png:https://citylightsartgallery.org/wp-content/uploads/2024/03/St-Patricks-Day-2024-Progr-030924-from-C-of-Hen-page-1-png.png
ORGANIZER;CN="City Lights Art Gallery":MAILTO:CLAG.Gallery@gmail.com
END:VEVENT
BEGIN:VEVENT
DTSTART;TZID=America/Los_Angeles:20240309T170000
DTEND;TZID=America/Los_Angeles:20240309T190000
DTSTAMP:20260423T114405
CREATED:20240303T045541Z
LAST-MODIFIED:20240311T224737Z
UID:4873-1710003600-1710010800@citylightsartgallery.org
SUMMARY:Spring Juried Show Reception
DESCRIPTION:Pics from reception  >>> https://flic.kr/s/aHBqjBh2ZP \n \n \n 
URL:https://citylightsartgallery.org/event/spring-juried-show-reception-2
LOCATION:City Lights Art Gallery\, 3 East Army Street\, Henderson\, NV\, 89015\, United States
CATEGORIES:Event,Juried Shows
ATTACH;FMTTYPE=image/png:https://citylightsartgallery.org/wp-content/uploads/2024/03/SpringInvite-Reception-030924.png
ORGANIZER;CN="City Lights Art Gallery":MAILTO:CLAG.Gallery@gmail.com
END:VEVENT
BEGIN:VEVENT
DTSTART;TZID=America/Los_Angeles:20240229T160000
DTEND;TZID=America/Los_Angeles:20240229T200000
DTSTAMP:20260423T114405
CREATED:20240127T051538Z
LAST-MODIFIED:20240127T051826Z
UID:4784-1709222400-1709236800@citylightsartgallery.org
SUMMARY:Last Thursday - Gallery Open 4 to 8 pm
DESCRIPTION:Last Thursday of the Month the gallery is open from 4 to 8 pm!
URL:https://citylightsartgallery.org/event/last-thursday-gallery-open
LOCATION:City Lights Art Gallery\, 3 East Army Street\, Henderson\, NV\, 89015\, United States
CATEGORIES:Event
ORGANIZER;CN="City Lights Art Gallery":MAILTO:CLAG.Gallery@gmail.com
END:VEVENT
BEGIN:VEVENT
DTSTART;TZID=America/Los_Angeles:20240223T160000
DTEND;TZID=America/Los_Angeles:20240223T200000
DTSTAMP:20260423T114405
CREATED:20240120T205512Z
LAST-MODIFIED:20240203T232943Z
UID:4775-1708704000-1708718400@citylightsartgallery.org
SUMMARY:Farmers Market & Art
DESCRIPTION:If you are a current City Lights Member and you are interested in participating\, please contact Stephanie at 702-274-7287.  Thank you and we look forward to seeing you there!
URL:https://citylightsartgallery.org/event/farmers-market
LOCATION:City Lights Art Gallery\, 3 East Army Street\, Henderson\, NV\, 89015\, United States
CATEGORIES:Event
ATTACH;FMTTYPE=image/jpeg:https://citylightsartgallery.org/wp-content/uploads/2024/01/farmers-market-henderson-square-12-jpg.jpg
ORGANIZER;CN="City Lights Art Gallery":MAILTO:CLAG.Gallery@gmail.com
END:VEVENT
BEGIN:VEVENT
DTSTART;TZID=America/Los_Angeles:20240216T100000
DTEND;TZID=America/Los_Angeles:20240216T140000
DTSTAMP:20260423T114405
CREATED:20240201T044105Z
LAST-MODIFIED:20240203T041441Z
UID:4802-1708077600-1708092000@citylightsartgallery.org
SUMMARY:Workshop with Karla Cloninger - Sold Out
DESCRIPTION:
URL:https://citylightsartgallery.org/event/workshop-with-karla-cloninger
LOCATION:City Lights Art Gallery\, 3 East Army Street\, Henderson\, NV\, 89015\, United States
CATEGORIES:Class,Event
ATTACH;FMTTYPE=image/png:https://citylightsartgallery.org/wp-content/uploads/2024/01/photo-collage-class-sold.png
ORGANIZER;CN="City Lights Art Gallery":MAILTO:CLAG.Gallery@gmail.com
END:VEVENT
BEGIN:VEVENT
DTSTART;TZID=America/Los_Angeles:20240215T180000
DTEND;TZID=America/Los_Angeles:20240215T200000
DTSTAMP:20260423T114405
CREATED:20240214T025428Z
LAST-MODIFIED:20240214T044506Z
UID:4835-1708020000-1708027200@citylightsartgallery.org
SUMMARY:Member Meeting (& Demonstration)
DESCRIPTION:Member Meeting Thursday\, February 15\, 2024 at 6 pm in person at the gallery! \nDiscussion to include “We Need You!:  Your Ideas\, Skills\, Leadership\, Participation!”\n \nThere will also be a demonstration by Karla Cloninger about Mixed Media Spirit Dolls!\n \nWe look forward to seeing you there!!!\n\n  \nMember Meeting Discussion Followed by a art demonstration by Susan LaBuda and Karla Cloninger.
URL:https://citylightsartgallery.org/event/member-meeting-demonstration
LOCATION:City Lights Art Gallery\, 3 East Army Street\, Henderson\, NV\, 89015\, United States
CATEGORIES:Event,Fun
ORGANIZER;CN="City Lights Art Gallery":MAILTO:CLAG.Gallery@gmail.com
END:VEVENT
BEGIN:VEVENT
DTSTART;TZID=America/Los_Angeles:20240113T160000
DTEND;TZID=America/Los_Angeles:20240113T180000
DTSTAMP:20260423T114405
CREATED:20231218T184805Z
LAST-MODIFIED:20240113T034834Z
UID:4527-1705161600-1705168800@citylightsartgallery.org
SUMMARY:January Member's Challenge Reception
DESCRIPTION:
URL:https://citylightsartgallery.org/event/january-members-challenge-reception
LOCATION:City Lights Art Gallery\, 3 East Army Street\, Henderson\, NV\, 89015\, United States
CATEGORIES:Event,Featured Artist
ATTACH;FMTTYPE=image/jpeg:https://citylightsartgallery.org/wp-content/uploads/2024/01/WaterStreet-Reception-Flyer-slb.jpeg
ORGANIZER;CN="City Lights Art Gallery":MAILTO:CLAG.Gallery@gmail.com
END:VEVENT
BEGIN:VEVENT
DTSTART;TZID=America/Los_Angeles:20240104T170000
DTEND;TZID=America/Los_Angeles:20240104T190000
DTSTAMP:20260423T114405
CREATED:20231227T024719Z
LAST-MODIFIED:20240114T052958Z
UID:4537-1704387600-1704394800@citylightsartgallery.org
SUMMARY:Scholarship Winners Reception
DESCRIPTION:
URL:https://citylightsartgallery.org/event/scholarship-winners-reception
LOCATION:City Lights Art Gallery\, 3 East Army Street\, Henderson\, NV\, 89015\, United States
CATEGORIES:Event,Featured Artist
ATTACH;FMTTYPE=image/png:https://citylightsartgallery.org/wp-content/uploads/2023/12/Scholarshipo-2023-Reception-Jan-4-2024.png
ORGANIZER;CN="City Lights Art Gallery":MAILTO:CLAG.Gallery@gmail.com
END:VEVENT
BEGIN:VEVENT
DTSTART;TZID=America/Los_Angeles:20231230T120000
DTEND;TZID=America/Los_Angeles:20231230T160000
DTSTAMP:20260423T114405
CREATED:20231218T183817Z
LAST-MODIFIED:20231218T190522Z
UID:4520-1703937600-1703952000@citylightsartgallery.org
SUMMARY:Art Intake for Q1 - 2024
DESCRIPTION:City Lights Call for Art 1st qtr 2024 Announcement \n 
URL:https://citylightsartgallery.org/event/art-intake-for-q1-2024
LOCATION:City Lights Art Gallery\, 3 East Army Street\, Henderson\, NV\, 89015\, United States
CATEGORIES:Art Intake/Pickup,Event
ATTACH;FMTTYPE=image/jpeg:https://citylightsartgallery.org/wp-content/uploads/2023/12/City-Lights-Call-for-Art-1st-qtr-2024-Announcement-1-scaled.jpg
ORGANIZER;CN="City Lights Art Gallery":MAILTO:CLAG.Gallery@gmail.com
END:VEVENT
BEGIN:VEVENT
DTSTART;TZID=America/Los_Angeles:20231229T120000
DTEND;TZID=America/Los_Angeles:20231229T160000
DTSTAMP:20260423T114405
CREATED:20231218T184023Z
LAST-MODIFIED:20231218T190551Z
UID:4522-1703851200-1703865600@citylightsartgallery.org
SUMMARY:Art Intake for Q1 - 2024
DESCRIPTION:City Lights Call for Art 1st qtr 2024 Announcement
URL:https://citylightsartgallery.org/event/art-intake-for-q1-2024-2
LOCATION:City Lights Art Gallery\, 3 East Army Street\, Henderson\, NV\, 89015\, United States
CATEGORIES:Art Intake/Pickup,Event
ATTACH;FMTTYPE=image/jpeg:https://citylightsartgallery.org/wp-content/uploads/2023/12/City-Lights-Call-for-Art-1st-qtr-2024-Announcement-1-scaled.jpg
ORGANIZER;CN="City Lights Art Gallery":MAILTO:CLAG.Gallery@gmail.com
END:VEVENT
BEGIN:VEVENT
DTSTART;TZID=America/Los_Angeles:20231216T150000
DTEND;TZID=America/Los_Angeles:20231216T180000
DTSTAMP:20260423T114405
CREATED:20231030T031601Z
LAST-MODIFIED:20231202T182357Z
UID:4392-1702738800-1702749600@citylightsartgallery.org
SUMMARY:Christmas Party - Member's Best Reception
DESCRIPTION:
URL:https://citylightsartgallery.org/event/christmas-party-members-best-reception
LOCATION:City Lights Art Gallery\, 3 East Army Street\, Henderson\, NV\, 89015\, United States
CATEGORIES:Event,Featured Artist
ORGANIZER;CN="City Lights Art Gallery":MAILTO:CLAG.Gallery@gmail.com
END:VEVENT
BEGIN:VEVENT
DTSTART;TZID=America/Los_Angeles:20231125T090000
DTEND;TZID=America/Los_Angeles:20231125T160000
DTSTAMP:20260423T114405
CREATED:20231020T020337Z
LAST-MODIFIED:20231029T205453Z
UID:4299-1700902800-1700928000@citylightsartgallery.org
SUMMARY:Shop Small Saturday
DESCRIPTION:
URL:https://citylightsartgallery.org/event/shop-small-saturday
LOCATION:City Lights Art Gallery\, 3 East Army Street\, Henderson\, NV\, 89015\, United States
CATEGORIES:Event
ATTACH;FMTTYPE=image/jpeg:https://citylightsartgallery.org/wp-content/uploads/2023/10/shop-small-2023-from-fb-site.jpg
ORGANIZER;CN="City Lights Art Gallery":MAILTO:CLAG.Gallery@gmail.com
END:VEVENT
BEGIN:VEVENT
DTSTART;TZID=America/Los_Angeles:20231116T183000
DTEND;TZID=America/Los_Angeles:20231116T200000
DTSTAMP:20260423T114405
CREATED:20231020T014100Z
LAST-MODIFIED:20231020T014831Z
UID:4290-1700159400-1700164800@citylightsartgallery.org
SUMMARY:Member Meeting To Be Announced
DESCRIPTION:
URL:https://citylightsartgallery.org/event/member-meeting-to-be-announced
LOCATION:City Lights Art Gallery\, 3 East Army Street\, Henderson\, NV\, 89015\, United States
CATEGORIES:Class,Event
ORGANIZER;CN="City Lights Art Gallery":MAILTO:CLAG.Gallery@gmail.com
END:VEVENT
BEGIN:VEVENT
DTSTART;TZID=America/Los_Angeles:20231111T170000
DTEND;TZID=America/Los_Angeles:20231111T190000
DTSTAMP:20260423T114405
CREATED:20230917T212319Z
LAST-MODIFIED:20230917T212320Z
UID:4186-1699722000-1699729200@citylightsartgallery.org
SUMMARY:November Member's Challenge Reception
DESCRIPTION:
URL:https://citylightsartgallery.org/event/november-members-challenge-reception
LOCATION:City Lights Art Gallery\, 3 East Army Street\, Henderson\, NV\, 89015\, United States
CATEGORIES:Event,Featured Artist
ATTACH;FMTTYPE=image/png:https://citylightsartgallery.org/wp-content/uploads/2023/09/Fall-Challenge-Nov-2023-City-Lights-Art-Gallery-c-for-header.png
ORGANIZER;CN="City Lights Art Gallery":MAILTO:CLAG.Gallery@gmail.com
END:VEVENT
BEGIN:VEVENT
DTSTART;TZID=America/Los_Angeles:20231105T120000
DTEND;TZID=America/Los_Angeles:20231105T150000
DTSTAMP:20260423T114405
CREATED:20230516T192824Z
LAST-MODIFIED:20231108T033025Z
UID:3516-1699185600-1699196400@citylightsartgallery.org
SUMMARY:Water Based Media & Collage with Jan Schaeffer
DESCRIPTION:Water Based Media & Collage with Jan Schaeffer weekly on Sunday’s at the gallery. \nInstructor: Jan Schaeffer at (702) 498-3055 (Call ahead to confirm availability) \nCost $25.00 per class
URL:https://citylightsartgallery.org/event/water-based-media-collage-with-jan-schaeffer-2023-11-05/2023-11-05
LOCATION:City Lights Art Gallery\, 3 East Army Street\, Henderson\, NV\, 89015\, United States
CATEGORIES:Class,Event
ATTACH;FMTTYPE=image/jpeg:https://citylightsartgallery.org/wp-content/uploads/2022/08/Vert-Class-Pic_2.jpg
ORGANIZER;CN="City Lights Art Gallery":MAILTO:CLAG.Gallery@gmail.com
END:VEVENT
END:VCALENDAR